BEGIN:VCALENDAR
VERSION:2.0
PRODID:-//Darshan Academy Meerut - ECPv6.0.12//NONSGML v1.0//EN
CALSCALE:GREGORIAN
METHOD:PUBLISH
X-WR-CALNAME:Darshan Academy Meerut
X-ORIGINAL-URL:https://meerut.darshanacademy.org
X-WR-CALDESC:Events for Darshan Academy Meerut
REFRESH-INTERVAL;VALUE=DURATION:PT1H
X-Robots-Tag:noindex
X-PUBLISHED-TTL:PT1H
BEGIN:VTIMEZONE
TZID:America/Los_Angeles
BEGIN:DAYLIGHT
TZOFFSETFROM:-0800
TZOFFSETTO:-0700
TZNAME:PDT
DTSTART:20230312T100000
END:DAYLIGHT
BEGIN:STANDARD
TZOFFSETFROM:-0700
TZOFFSETTO:-0800
TZNAME:PST
DTSTART:20231105T090000
END:STANDARD
BEGIN:DAYLIGHT
TZOFFSETFROM:-0800
TZOFFSETTO:-0700
TZNAME:PDT
DTSTART:20240310T100000
END:DAYLIGHT
BEGIN:STANDARD
TZOFFSETFROM:-0700
TZOFFSETTO:-0800
TZNAME:PST
DTSTART:20241103T090000
END:STANDARD
END:VTIMEZONE
BEGIN:VEVENT
DTSTART;TZID=America/Los_Angeles:20240201T000000
DTEND;TZID=America/Los_Angeles:20240205T000000
DTSTAMP:20260420T134744
CREATED:20230509T212945Z
LAST-MODIFIED:20230509T212945Z
UID:6445-1706745600-1707091200@meerut.darshanacademy.org
SUMMARY:KIRPAL WEEK OF LOVING KINDNESS
DESCRIPTION:
URL:https://meerut.darshanacademy.org/event/kirpal-week-of-loving-kindness/
CATEGORIES:EVENT
END:VEVENT
BEGIN:VEVENT
DTSTART;TZID=America/Los_Angeles:20240130T000000
DTEND;TZID=America/Los_Angeles:20240130T000000
DTSTAMP:20260420T134744
CREATED:20230509T212945Z
LAST-MODIFIED:20230509T212945Z
UID:6444-1706572800-1706572800@meerut.darshanacademy.org
SUMMARY:INTER-SCHOOL DRAWING & PAINTING COMPETITION
DESCRIPTION:
URL:https://meerut.darshanacademy.org/event/inter-school-drawing-painting-competition/
CATEGORIES:EVENT
END:VEVENT
BEGIN:VEVENT
DTSTART;TZID=America/Los_Angeles:20240127T000000
DTEND;TZID=America/Los_Angeles:20240127T000000
DTSTAMP:20260420T134744
CREATED:20230509T212945Z
LAST-MODIFIED:20230509T212945Z
UID:6443-1706313600-1706313600@meerut.darshanacademy.org
SUMMARY:PTM (X AND XII)
DESCRIPTION:
URL:https://meerut.darshanacademy.org/event/ptm-x-and-xii/
CATEGORIES:PTM
END:VEVENT
BEGIN:VEVENT
DTSTART;TZID=America/Los_Angeles:20240126T000000
DTEND;TZID=America/Los_Angeles:20240126T000000
DTSTAMP:20260420T134744
CREATED:20230509T212945Z
LAST-MODIFIED:20230509T212945Z
UID:6442-1706227200-1706227200@meerut.darshanacademy.org
SUMMARY:REPUBLIC DAY
DESCRIPTION:
URL:https://meerut.darshanacademy.org/event/republic-day/
CATEGORIES:HOLIDAY
END:VEVENT
BEGIN:VEVENT
DTSTART;TZID=America/Los_Angeles:20240124T000000
DTEND;TZID=America/Los_Angeles:20240124T000000
DTSTAMP:20260420T134744
CREATED:20230509T212945Z
LAST-MODIFIED:20230509T212945Z
UID:6441-1706054400-1706054400@meerut.darshanacademy.org
SUMMARY:REPUBLIC DAY CELEBRATION / INTER-CLASS FOLK SONG COMPETITION
DESCRIPTION:
URL:https://meerut.darshanacademy.org/event/republic-day-celebration-inter-class-folk-song-competition/
CATEGORIES:EVENT
END:VEVENT
BEGIN:VEVENT
DTSTART;TZID=America/Los_Angeles:20240123T000000
DTEND;TZID=America/Los_Angeles:20240123T000000
DTSTAMP:20260420T134744
CREATED:20230509T212936Z
LAST-MODIFIED:20230509T212936Z
UID:6440-1705968000-1705968000@meerut.darshanacademy.org
SUMMARY:SPECIAL ASSEMBLY: NETAJI SUBHASH CHANDRA BOSE JAYANTI
DESCRIPTION:
URL:https://meerut.darshanacademy.org/event/special-assembly-netaji-subhash-chandra-bose-jayanti/
CATEGORIES:EVENT
END:VEVENT
BEGIN:VEVENT
DTSTART;TZID=America/Los_Angeles:20240122T000000
DTEND;TZID=America/Los_Angeles:20240122T000000
DTSTAMP:20260420T134744
CREATED:20230509T212936Z
LAST-MODIFIED:20230509T212936Z
UID:6439-1705881600-1705881600@meerut.darshanacademy.org
SUMMARY:INTER-PLAY SCHOOL GAMES COMPETITION
DESCRIPTION:
URL:https://meerut.darshanacademy.org/event/inter-play-school-games-competition/
CATEGORIES:EVENT
END:VEVENT
BEGIN:VEVENT
DTSTART;TZID=America/Los_Angeles:20240120T000000
DTEND;TZID=America/Los_Angeles:20240120T000000
DTSTAMP:20260420T134744
CREATED:20230509T212936Z
LAST-MODIFIED:20230509T212936Z
UID:6438-1705708800-1705708800@meerut.darshanacademy.org
SUMMARY:INTER-HOUSE MATHS QUIZ (I - II\, III - V\, VI - VIII)
DESCRIPTION:
URL:https://meerut.darshanacademy.org/event/inter-house-maths-quiz-i-ii-iii-v-vi-viii/
CATEGORIES:EVENT
END:VEVENT
BEGIN:VEVENT
DTSTART;TZID=America/Los_Angeles:20240106T000000
DTEND;TZID=America/Los_Angeles:20240120T000000
DTSTAMP:20260420T134744
CREATED:20230509T212936Z
LAST-MODIFIED:20230509T212936Z
UID:6437-1704499200-1705708800@meerut.darshanacademy.org
SUMMARY:PRE - BOARD I (X) / PRE - BOARD II (XII)
DESCRIPTION:
URL:https://meerut.darshanacademy.org/event/pre-board-i-x-pre-board-ii-xii/
CATEGORIES:EXAMINATION
END:VEVENT
BEGIN:VEVENT
DTSTART;TZID=America/Los_Angeles:20240106T000000
DTEND;TZID=America/Los_Angeles:20240106T000000
DTSTAMP:20260420T134744
CREATED:20230509T212936Z
LAST-MODIFIED:20230509T212936Z
UID:6436-1704499200-1704499200@meerut.darshanacademy.org
SUMMARY:INTERNAL WORKSHOP ON METHODOLOGY OF TEACHING DIFFERENT SUBJECTS
DESCRIPTION:
URL:https://meerut.darshanacademy.org/event/internal-workshop-on-methodology-of-teaching-different-subjects-3/
CATEGORIES:PROFESSIONAL DEVELOPMENT PROGRAMME
END:VEVENT
BEGIN:VEVENT
DTSTART;TZID=America/Los_Angeles:20240105T000000
DTEND;TZID=America/Los_Angeles:20240105T000000
DTSTAMP:20260420T134744
CREATED:20230509T212922Z
LAST-MODIFIED:20230509T212922Z
UID:6435-1704412800-1704412800@meerut.darshanacademy.org
SUMMARY:NATIONAL  SPIRITUAL CURRICULUM WORKSHOP ON TEACHING TIPS
DESCRIPTION:
URL:https://meerut.darshanacademy.org/event/national-spiritual-curriculum-workshop-on-teaching-tips/
CATEGORIES:PROFESSIONAL DEVELOPMENT PROGRAMME
END:VEVENT
BEGIN:VEVENT
DTSTART;TZID=America/Los_Angeles:20231230T000000
DTEND;TZID=America/Los_Angeles:20240108T000000
DTSTAMP:20260420T134744
CREATED:20230509T212922Z
LAST-MODIFIED:20230509T212922Z
UID:6434-1703894400-1704672000@meerut.darshanacademy.org
SUMMARY:WINTER BREAK
DESCRIPTION:
URL:https://meerut.darshanacademy.org/event/winter-break/
CATEGORIES:HOLIDAY
END:VEVENT
BEGIN:VEVENT
DTSTART;TZID=America/Los_Angeles:20231230T000000
DTEND;TZID=America/Los_Angeles:20231230T000000
DTSTAMP:20260420T134744
CREATED:20230509T212922Z
LAST-MODIFIED:20230509T212922Z
UID:6433-1703894400-1703894400@meerut.darshanacademy.org
SUMMARY:INTERNAL WORKSHOP ON SPIRITUAL CURRICULUM DEMONSTRATION LESSONS
DESCRIPTION:
URL:https://meerut.darshanacademy.org/event/internal-workshop-on-spiritual-curriculum-demonstration-lessons-2/
CATEGORIES:PROFESSIONAL DEVELOPMENT PROGRAMME
END:VEVENT
BEGIN:VEVENT
DTSTART;TZID=America/Los_Angeles:20231229T000000
DTEND;TZID=America/Los_Angeles:20231229T000000
DTSTAMP:20260420T134744
CREATED:20230509T212922Z
LAST-MODIFIED:20230509T212922Z
UID:6432-1703808000-1703808000@meerut.darshanacademy.org
SUMMARY:ALPHABET PARTY (PRE-PRIMARY)
DESCRIPTION:
URL:https://meerut.darshanacademy.org/event/alphabet-party-pre-primary/
CATEGORIES:EVENT
END:VEVENT
BEGIN:VEVENT
DTSTART;TZID=America/Los_Angeles:20231225T000000
DTEND;TZID=America/Los_Angeles:20231225T000000
DTSTAMP:20260420T134744
CREATED:20230509T212922Z
LAST-MODIFIED:20230509T212922Z
UID:6431-1703462400-1703462400@meerut.darshanacademy.org
SUMMARY:CHRISTMAS
DESCRIPTION:
URL:https://meerut.darshanacademy.org/event/christmas/
CATEGORIES:HOLIDAY
END:VEVENT
BEGIN:VEVENT
DTSTART;TZID=America/Los_Angeles:20231223T000000
DTEND;TZID=America/Los_Angeles:20231223T000000
DTSTAMP:20260420T134744
CREATED:20230509T212913Z
LAST-MODIFIED:20230509T212913Z
UID:6430-1703289600-1703289600@meerut.darshanacademy.org
SUMMARY:FOURTH SATURDAY
DESCRIPTION:
URL:https://meerut.darshanacademy.org/event/fourth-saturday-5/
CATEGORIES:HOLIDAY
END:VEVENT
BEGIN:VEVENT
DTSTART;TZID=America/Los_Angeles:20231222T000000
DTEND;TZID=America/Los_Angeles:20231222T000000
DTSTAMP:20260420T134744
CREATED:20230509T212913Z
LAST-MODIFIED:20230509T212913Z
UID:6427-1703203200-1703203200@meerut.darshanacademy.org
SUMMARY:CHRISTMAS-CUM-RED DAY CELEBRATION
DESCRIPTION:
URL:https://meerut.darshanacademy.org/event/christmas-cum-red-day-celebration/
CATEGORIES:EVENT
END:VEVENT
BEGIN:VEVENT
DTSTART;TZID=America/Los_Angeles:20231222T000000
DTEND;TZID=America/Los_Angeles:20231222T000000
DTSTAMP:20260420T134744
CREATED:20230509T212913Z
LAST-MODIFIED:20230509T212913Z
UID:6428-1703203200-1703203200@meerut.darshanacademy.org
SUMMARY:SPIRITUAL TALK FOR PARENTS
DESCRIPTION:
URL:https://meerut.darshanacademy.org/event/spiritual-talk-for-parents/
CATEGORIES:OTHERS
END:VEVENT
BEGIN:VEVENT
DTSTART;TZID=America/Los_Angeles:20231222T000000
DTEND;TZID=America/Los_Angeles:20231222T000000
DTSTAMP:20260420T134744
CREATED:20230509T212913Z
LAST-MODIFIED:20230509T212913Z
UID:6429-1703203200-1703203200@meerut.darshanacademy.org
SUMMARY:INTERNAL SPIRITUAL TALK FOR TEACHERS
DESCRIPTION:
URL:https://meerut.darshanacademy.org/event/internal-spiritual-talk-for-teachers/
CATEGORIES:PROFESSIONAL DEVELOPMENT PROGRAMME
END:VEVENT
BEGIN:VEVENT
DTSTART;TZID=America/Los_Angeles:20231220T000000
DTEND;TZID=America/Los_Angeles:20231220T000000
DTSTAMP:20260420T134744
CREATED:20230509T212913Z
LAST-MODIFIED:20230509T212913Z
UID:6426-1703030400-1703030400@meerut.darshanacademy.org
SUMMARY:INTER-HOUSE QUIZ (I - II\, III - V & VI - VIII)
DESCRIPTION:
URL:https://meerut.darshanacademy.org/event/inter-house-quiz-i-ii-iii-v-vi-viii/
CATEGORIES:EVENT
END:VEVENT
BEGIN:VEVENT
DTSTART;TZID=America/Los_Angeles:20231216T000000
DTEND;TZID=America/Los_Angeles:20231216T000000
DTSTAMP:20260420T134744
CREATED:20230509T212847Z
LAST-MODIFIED:20230509T212847Z
UID:6425-1702684800-1702684800@meerut.darshanacademy.org
SUMMARY:PTM (ALL CLASSES)
DESCRIPTION:
URL:https://meerut.darshanacademy.org/event/ptm-all-classes-3/
CATEGORIES:PTM
END:VEVENT
BEGIN:VEVENT
DTSTART;TZID=America/Los_Angeles:20231202T000000
DTEND;TZID=America/Los_Angeles:20231209T000000
DTSTAMP:20260420T134744
CREATED:20230509T212847Z
LAST-MODIFIED:20230509T212847Z
UID:6424-1701475200-1702080000@meerut.darshanacademy.org
SUMMARY:ASSESSMENT - III (I - V) / PERIODIC TEST - II (VI - XI) / PRE- BOARD - I (XII)
DESCRIPTION:
URL:https://meerut.darshanacademy.org/event/assessment-iii-i-v-periodic-test-ii-vi-xi-pre-board-i-xii/
CATEGORIES:EXAMINATION
END:VEVENT
BEGIN:VEVENT
DTSTART;TZID=America/Los_Angeles:20231130T000000
DTEND;TZID=America/Los_Angeles:20231130T000000
DTSTAMP:20260420T134744
CREATED:20230509T212846Z
LAST-MODIFIED:20230509T212846Z
UID:6423-1701302400-1701302400@meerut.darshanacademy.org
SUMMARY:NATIONAL SPIRITUAL TALK FOR PARENTS
DESCRIPTION:
URL:https://meerut.darshanacademy.org/event/national-spiritual-talk-for-parents-2/
CATEGORIES:PROFESSIONAL DEVELOPMENT PROGRAMME
END:VEVENT
BEGIN:VEVENT
DTSTART;TZID=America/Los_Angeles:20231127T000000
DTEND;TZID=America/Los_Angeles:20231127T000000
DTSTAMP:20260420T134744
CREATED:20230509T212846Z
LAST-MODIFIED:20230509T212846Z
UID:6422-1701043200-1701043200@meerut.darshanacademy.org
SUMMARY:GURU NANAK'S BIRTHDAY
DESCRIPTION:
URL:https://meerut.darshanacademy.org/event/guru-nanaks-birthday/
CATEGORIES:HOLIDAY
END:VEVENT
BEGIN:VEVENT
DTSTART;TZID=America/Los_Angeles:20231125T000000
DTEND;TZID=America/Los_Angeles:20231125T000000
DTSTAMP:20260420T134744
CREATED:20230509T212846Z
LAST-MODIFIED:20230509T212846Z
UID:6421-1700870400-1700870400@meerut.darshanacademy.org
SUMMARY:FOURTH SATURDAY
DESCRIPTION:
URL:https://meerut.darshanacademy.org/event/fourth-saturday-4/
CATEGORIES:HOLIDAY
END:VEVENT
BEGIN:VEVENT
DTSTART;TZID=America/Los_Angeles:20231124T000000
DTEND;TZID=America/Los_Angeles:20231124T000000
DTSTAMP:20260420T134744
CREATED:20230509T212834Z
LAST-MODIFIED:20230509T212834Z
UID:6420-1700784000-1700784000@meerut.darshanacademy.org
SUMMARY:GURU TEGH BAHADUR SHAHEEDI DIWAS
DESCRIPTION:
URL:https://meerut.darshanacademy.org/event/guru-tegh-bahadur-shaheedi-diwas/
CATEGORIES:HOLIDAY
END:VEVENT
BEGIN:VEVENT
DTSTART;TZID=America/Los_Angeles:20231123T000000
DTEND;TZID=America/Los_Angeles:20231123T000000
DTSTAMP:20260420T134744
CREATED:20230509T212833Z
LAST-MODIFIED:20230509T212833Z
UID:6418-1700697600-1700697600@meerut.darshanacademy.org
SUMMARY:NATIONAL SPIRITUAL TALK FOR PARENTS
DESCRIPTION:
URL:https://meerut.darshanacademy.org/event/national-spiritual-talk-for-parents/
CATEGORIES:PROFESSIONAL DEVELOPMENT PROGRAMME
END:VEVENT
BEGIN:VEVENT
DTSTART;TZID=America/Los_Angeles:20231123T000000
DTEND;TZID=America/Los_Angeles:20231123T000000
DTSTAMP:20260420T134744
CREATED:20230509T212833Z
LAST-MODIFIED:20230509T212833Z
UID:6419-1700697600-1700697600@meerut.darshanacademy.org
SUMMARY:SPECIAL ASSEMBLY: CONSTITUTION DAY CELEBRATION
DESCRIPTION:
URL:https://meerut.darshanacademy.org/event/special-assembly-constitution-day-celebration/
CATEGORIES:EVENT
END:VEVENT
BEGIN:VEVENT
DTSTART;TZID=America/Los_Angeles:20231115T000000
DTEND;TZID=America/Los_Angeles:20231123T000000
DTSTAMP:20260420T134744
CREATED:20230509T212833Z
LAST-MODIFIED:20230509T212833Z
UID:6417-1700006400-1700697600@meerut.darshanacademy.org
SUMMARY:PROJECT WEEK 2023
DESCRIPTION:
URL:https://meerut.darshanacademy.org/event/project-week-2023/
CATEGORIES:EVENT
END:VEVENT
BEGIN:VEVENT
DTSTART;TZID=America/Los_Angeles:20231115T000000
DTEND;TZID=America/Los_Angeles:20231115T000000
DTSTAMP:20260420T134744
CREATED:20230509T212833Z
LAST-MODIFIED:20230509T212833Z
UID:6416-1700006400-1700006400@meerut.darshanacademy.org
SUMMARY:AUTHORS' TALK (LIBRARY)
DESCRIPTION:
URL:https://meerut.darshanacademy.org/event/authors-talk-library/
CATEGORIES:EVENT
END:VEVENT
END:VCALENDAR