BEGIN:VCALENDAR
VERSION:2.0
PRODID:-//Darshan Academy Meerut - ECPv6.0.12//NONSGML v1.0//EN
CALSCALE:GREGORIAN
METHOD:PUBLISH
X-WR-CALNAME:Darshan Academy Meerut
X-ORIGINAL-URL:https://meerut.darshanacademy.org
X-WR-CALDESC:Events for Darshan Academy Meerut
REFRESH-INTERVAL;VALUE=DURATION:PT1H
X-Robots-Tag:noindex
X-PUBLISHED-TTL:PT1H
BEGIN:VTIMEZONE
TZID:America/Los_Angeles
BEGIN:DAYLIGHT
TZOFFSETFROM:-0800
TZOFFSETTO:-0700
TZNAME:PDT
DTSTART:20230312T100000
END:DAYLIGHT
BEGIN:STANDARD
TZOFFSETFROM:-0700
TZOFFSETTO:-0800
TZNAME:PST
DTSTART:20231105T090000
END:STANDARD
END:VTIMEZONE
BEGIN:VEVENT
DTSTART;TZID=America/Los_Angeles:20231125T000000
DTEND;TZID=America/Los_Angeles:20231125T000000
DTSTAMP:20260421T102754
CREATED:20230509T212846Z
LAST-MODIFIED:20230509T212846Z
UID:6421-1700870400-1700870400@meerut.darshanacademy.org
SUMMARY:FOURTH SATURDAY
DESCRIPTION:
URL:https://meerut.darshanacademy.org/event/fourth-saturday-4/
CATEGORIES:HOLIDAY
END:VEVENT
BEGIN:VEVENT
DTSTART;TZID=America/Los_Angeles:20231124T000000
DTEND;TZID=America/Los_Angeles:20231124T000000
DTSTAMP:20260421T102754
CREATED:20230509T212834Z
LAST-MODIFIED:20230509T212834Z
UID:6420-1700784000-1700784000@meerut.darshanacademy.org
SUMMARY:GURU TEGH BAHADUR SHAHEEDI DIWAS
DESCRIPTION:
URL:https://meerut.darshanacademy.org/event/guru-tegh-bahadur-shaheedi-diwas/
CATEGORIES:HOLIDAY
END:VEVENT
BEGIN:VEVENT
DTSTART;TZID=America/Los_Angeles:20231123T000000
DTEND;TZID=America/Los_Angeles:20231123T000000
DTSTAMP:20260421T102754
CREATED:20230509T212833Z
LAST-MODIFIED:20230509T212833Z
UID:6418-1700697600-1700697600@meerut.darshanacademy.org
SUMMARY:NATIONAL SPIRITUAL TALK FOR PARENTS
DESCRIPTION:
URL:https://meerut.darshanacademy.org/event/national-spiritual-talk-for-parents/
CATEGORIES:PROFESSIONAL DEVELOPMENT PROGRAMME
END:VEVENT
BEGIN:VEVENT
DTSTART;TZID=America/Los_Angeles:20231123T000000
DTEND;TZID=America/Los_Angeles:20231123T000000
DTSTAMP:20260421T102754
CREATED:20230509T212833Z
LAST-MODIFIED:20230509T212833Z
UID:6419-1700697600-1700697600@meerut.darshanacademy.org
SUMMARY:SPECIAL ASSEMBLY: CONSTITUTION DAY CELEBRATION
DESCRIPTION:
URL:https://meerut.darshanacademy.org/event/special-assembly-constitution-day-celebration/
CATEGORIES:EVENT
END:VEVENT
BEGIN:VEVENT
DTSTART;TZID=America/Los_Angeles:20231115T000000
DTEND;TZID=America/Los_Angeles:20231123T000000
DTSTAMP:20260421T102754
CREATED:20230509T212833Z
LAST-MODIFIED:20230509T212833Z
UID:6417-1700006400-1700697600@meerut.darshanacademy.org
SUMMARY:PROJECT WEEK 2023
DESCRIPTION:
URL:https://meerut.darshanacademy.org/event/project-week-2023/
CATEGORIES:EVENT
END:VEVENT
BEGIN:VEVENT
DTSTART;TZID=America/Los_Angeles:20231115T000000
DTEND;TZID=America/Los_Angeles:20231115T000000
DTSTAMP:20260421T102754
CREATED:20230509T212833Z
LAST-MODIFIED:20230509T212833Z
UID:6416-1700006400-1700006400@meerut.darshanacademy.org
SUMMARY:AUTHORS' TALK (LIBRARY)
DESCRIPTION:
URL:https://meerut.darshanacademy.org/event/authors-talk-library/
CATEGORIES:EVENT
END:VEVENT
BEGIN:VEVENT
DTSTART;TZID=America/Los_Angeles:20231111T000000
DTEND;TZID=America/Los_Angeles:20231114T000000
DTSTAMP:20260421T102754
CREATED:20230509T212815Z
LAST-MODIFIED:20230509T212815Z
UID:6415-1699660800-1699920000@meerut.darshanacademy.org
SUMMARY:DIWALI BREAK
DESCRIPTION:
URL:https://meerut.darshanacademy.org/event/diwali-break/
CATEGORIES:HOLIDAY
END:VEVENT
BEGIN:VEVENT
DTSTART;TZID=America/Los_Angeles:20231111T000000
DTEND;TZID=America/Los_Angeles:20231111T000000
DTSTAMP:20260421T102754
CREATED:20230509T212815Z
LAST-MODIFIED:20230509T212815Z
UID:6414-1699660800-1699660800@meerut.darshanacademy.org
SUMMARY:ZONAL WORKSHOP FOR TEACHERS TEACHING EVS IN CLASSES (III-V)
DESCRIPTION:
URL:https://meerut.darshanacademy.org/event/zonal-workshop-for-teachers-teaching-evs-in-classes-iii-v/
CATEGORIES:PROFESSIONAL DEVELOPMENT PROGRAMME
END:VEVENT
BEGIN:VEVENT
DTSTART;TZID=America/Los_Angeles:20231110T000000
DTEND;TZID=America/Los_Angeles:20231110T000000
DTSTAMP:20260421T102754
CREATED:20230509T212815Z
LAST-MODIFIED:20230509T212815Z
UID:6413-1699574400-1699574400@meerut.darshanacademy.org
SUMMARY:GREEN DAY CELEBRATION (PRE-PRIMARY) / DIWALI CELEBRATIONS / ART & CRAFT EXHIBITION (I - V) / ELOCUTION COMPETITION (VI - XII)
DESCRIPTION:
URL:https://meerut.darshanacademy.org/event/green-day-celebration-pre-primary-diwali-celebrations-art-craft-exhibition-i-v-elocution-competition-vi-xii/
CATEGORIES:EVENT
END:VEVENT
BEGIN:VEVENT
DTSTART;TZID=America/Los_Angeles:20231109T000000
DTEND;TZID=America/Los_Angeles:20231109T000000
DTSTAMP:20260421T102754
CREATED:20230509T212815Z
LAST-MODIFIED:20230509T212815Z
UID:6412-1699488000-1699488000@meerut.darshanacademy.org
SUMMARY:CHILDREN'S DAY CELERATION
DESCRIPTION:
URL:https://meerut.darshanacademy.org/event/childrens-day-celeration/
CATEGORIES:EVENT
END:VEVENT
BEGIN:VEVENT
DTSTART;TZID=America/Los_Angeles:20231108T000000
DTEND;TZID=America/Los_Angeles:20231108T000000
DTSTAMP:20260421T102754
CREATED:20230509T212815Z
LAST-MODIFIED:20230509T212815Z
UID:6411-1699401600-1699401600@meerut.darshanacademy.org
SUMMARY:NATIONAL EDUCATION DAY CELEBRATION
DESCRIPTION:
URL:https://meerut.darshanacademy.org/event/national-education-day-celebration/
CATEGORIES:EVENT
END:VEVENT
BEGIN:VEVENT
DTSTART;TZID=America/Los_Angeles:20231104T000000
DTEND;TZID=America/Los_Angeles:20231104T000000
DTSTAMP:20260421T102754
CREATED:20230509T212805Z
LAST-MODIFIED:20230509T212805Z
UID:6410-1699056000-1699056000@meerut.darshanacademy.org
SUMMARY:VEGETARIAN PARTY (I - VIII) / INTER-HOUSE DEBATE (IX - XII)
DESCRIPTION:
URL:https://meerut.darshanacademy.org/event/vegetarian-party-i-viii-inter-house-debate-ix-xii/
CATEGORIES:EVENT
END:VEVENT
BEGIN:VEVENT
DTSTART;TZID=America/Los_Angeles:20231101T000000
DTEND;TZID=America/Los_Angeles:20231105T000000
DTSTAMP:20260421T102754
CREATED:20230509T212805Z
LAST-MODIFIED:20230509T212805Z
UID:6409-1698796800-1699142400@meerut.darshanacademy.org
SUMMARY:VIGILANCE AWARENESS WEEK
DESCRIPTION:
URL:https://meerut.darshanacademy.org/event/vigilance-awareness-week/
CATEGORIES:EVENT
END:VEVENT
BEGIN:VEVENT
DTSTART;TZID=America/Los_Angeles:20231031T000000
DTEND;TZID=America/Los_Angeles:20231031T000000
DTSTAMP:20260421T102754
CREATED:20230509T212804Z
LAST-MODIFIED:20230509T212804Z
UID:6408-1698710400-1698710400@meerut.darshanacademy.org
SUMMARY:ANNUAL SPORTS MEET
DESCRIPTION:
URL:https://meerut.darshanacademy.org/event/annual-sports-meet/
CATEGORIES:EVENT
END:VEVENT
BEGIN:VEVENT
DTSTART;TZID=America/Los_Angeles:20231028T000000
DTEND;TZID=America/Los_Angeles:20231028T000000
DTSTAMP:20260421T102754
CREATED:20230509T212804Z
LAST-MODIFIED:20230509T212804Z
UID:6407-1698451200-1698451200@meerut.darshanacademy.org
SUMMARY:FOURTH SATURDAY
DESCRIPTION:
URL:https://meerut.darshanacademy.org/event/fourth-saturday-3/
CATEGORIES:HOLIDAY
END:VEVENT
BEGIN:VEVENT
DTSTART;TZID=America/Los_Angeles:20231027T000000
DTEND;TZID=America/Los_Angeles:20231027T000000
DTSTAMP:20260421T102754
CREATED:20230509T212804Z
LAST-MODIFIED:20230509T212804Z
UID:6406-1698364800-1698364800@meerut.darshanacademy.org
SUMMARY:NATIONAL SPIRITUAL TALK FOR TEACHERS
DESCRIPTION:
URL:https://meerut.darshanacademy.org/event/national-spiritual-talk-for-teachers/
CATEGORIES:PROFESSIONAL DEVELOPMENT PROGRAMME
END:VEVENT
BEGIN:VEVENT
DTSTART;TZID=America/Los_Angeles:20231023T000000
DTEND;TZID=America/Los_Angeles:20231024T000000
DTSTAMP:20260421T102754
CREATED:20230509T212756Z
LAST-MODIFIED:20230509T212756Z
UID:6405-1698019200-1698105600@meerut.darshanacademy.org
SUMMARY:DUSSEHRA BREAK
DESCRIPTION:
URL:https://meerut.darshanacademy.org/event/dussehra-break/
CATEGORIES:HOLIDAY
END:VEVENT
BEGIN:VEVENT
DTSTART;TZID=America/Los_Angeles:20231021T000000
DTEND;TZID=America/Los_Angeles:20231021T000000
DTSTAMP:20260421T102754
CREATED:20230509T212755Z
LAST-MODIFIED:20230509T212755Z
UID:6404-1697846400-1697846400@meerut.darshanacademy.org
SUMMARY:ZONAL WORKSHOP FOR TEACHERS TEACHING HINDI IN CLASSES (III-V)
DESCRIPTION:
URL:https://meerut.darshanacademy.org/event/zonal-workshop-for-teachers-teaching-hindi-in-classes-iii-v/
CATEGORIES:PROFESSIONAL DEVELOPMENT PROGRAMME
END:VEVENT
BEGIN:VEVENT
DTSTART;TZID=America/Los_Angeles:20231020T000000
DTEND;TZID=America/Los_Angeles:20231020T000000
DTSTAMP:20260421T102754
CREATED:20230509T212755Z
LAST-MODIFIED:20230509T212755Z
UID:6403-1697760000-1697760000@meerut.darshanacademy.org
SUMMARY:SPECIAL ASSEMPLY: UN DAY CELEBRATION (VI - XII) / FANCY DRESS SHOW (NUR - V)
DESCRIPTION:
URL:https://meerut.darshanacademy.org/event/special-assemply-un-day-celebration-vi-xii-fancy-dress-show-nur-v/
CATEGORIES:EVENT
END:VEVENT
BEGIN:VEVENT
DTSTART;TZID=America/Los_Angeles:20231018T000000
DTEND;TZID=America/Los_Angeles:20231018T000000
DTSTAMP:20260421T102754
CREATED:20230509T212755Z
LAST-MODIFIED:20230509T212755Z
UID:6402-1697587200-1697587200@meerut.darshanacademy.org
SUMMARY:CYBER SECURITY AWARENESS PROGRAMME (VI - XII)
DESCRIPTION:
URL:https://meerut.darshanacademy.org/event/cyber-security-awareness-programme-vi-xii/
CATEGORIES:EVENT
END:VEVENT
BEGIN:VEVENT
DTSTART;TZID=America/Los_Angeles:20231014T000000
DTEND;TZID=America/Los_Angeles:20231014T000000
DTSTAMP:20260421T102754
CREATED:20230509T212755Z
LAST-MODIFIED:20230509T212755Z
UID:6401-1697241600-1697241600@meerut.darshanacademy.org
SUMMARY:INTER-CLASS ACTIVITIES: MASK MAKING (I - III) /  MAKING SCENERY USING VEGETABLES AND PULSES (IV - V) / STATE-WISE DISPLAY BOARD DECORATION VI - XII)
DESCRIPTION:
URL:https://meerut.darshanacademy.org/event/inter-class-activities-mask-making-i-iii-making-scenery-using-vegetables-and-pulses-iv-v-state-wise-display-board-decoration-vi-xii/
CATEGORIES:EVENT
END:VEVENT
BEGIN:VEVENT
DTSTART;TZID=America/Los_Angeles:20231011T000000
DTEND;TZID=America/Los_Angeles:20231011T000000
DTSTAMP:20260421T102754
CREATED:20230509T212739Z
LAST-MODIFIED:20230509T212739Z
UID:6400-1696982400-1696982400@meerut.darshanacademy.org
SUMMARY:SPECIAL ASSEMBLY: INTERNATIONAL DAY OF GIRL CHILD
DESCRIPTION:
URL:https://meerut.darshanacademy.org/event/special-assembly-international-day-of-girl-child/
CATEGORIES:EVENT
END:VEVENT
BEGIN:VEVENT
DTSTART;TZID=America/Los_Angeles:20231010T000000
DTEND;TZID=America/Los_Angeles:20231010T000000
DTSTAMP:20260421T102754
CREATED:20230509T212739Z
LAST-MODIFIED:20230509T212739Z
UID:6399-1696896000-1696896000@meerut.darshanacademy.org
SUMMARY:SPECIAL ASSEMBLY: MENTAL HEALTH DAY
DESCRIPTION:
URL:https://meerut.darshanacademy.org/event/special-assembly-mental-health-day/
CATEGORIES:EVENT
END:VEVENT
BEGIN:VEVENT
DTSTART;TZID=America/Los_Angeles:20231007T000000
DTEND;TZID=America/Los_Angeles:20231007T000000
DTSTAMP:20260421T102754
CREATED:20230509T212739Z
LAST-MODIFIED:20230509T212739Z
UID:6398-1696636800-1696636800@meerut.darshanacademy.org
SUMMARY:ZONAL WORKSHOP FOR TEACHERS TEACHING ENGLISH IN CLASSES (III-V)
DESCRIPTION:
URL:https://meerut.darshanacademy.org/event/zonal-workshop-for-teachers-teaching-english-in-classes-iii-v/
CATEGORIES:PROFESSIONAL DEVELOPMENT PROGRAMME
END:VEVENT
BEGIN:VEVENT
DTSTART;TZID=America/Los_Angeles:20231003T000000
DTEND;TZID=America/Los_Angeles:20231007T000000
DTSTAMP:20260421T102754
CREATED:20230509T212738Z
LAST-MODIFIED:20230509T212738Z
UID:6397-1696291200-1696636800@meerut.darshanacademy.org
SUMMARY:POETRY FEST 2023
DESCRIPTION:
URL:https://meerut.darshanacademy.org/event/poetry-fest-2023/
CATEGORIES:EVENT
END:VEVENT
BEGIN:VEVENT
DTSTART;TZID=America/Los_Angeles:20231002T000000
DTEND;TZID=America/Los_Angeles:20231002T000000
DTSTAMP:20260421T102754
CREATED:20230509T212738Z
LAST-MODIFIED:20230509T212738Z
UID:6396-1696204800-1696204800@meerut.darshanacademy.org
SUMMARY:GANDHI JAYANTI
DESCRIPTION:
URL:https://meerut.darshanacademy.org/event/gandhi-jayanti/
CATEGORIES:HOLIDAY
END:VEVENT
BEGIN:VEVENT
DTSTART;TZID=America/Los_Angeles:20230930T000000
DTEND;TZID=America/Los_Angeles:20230930T000000
DTSTAMP:20260421T102754
CREATED:20230509T212725Z
LAST-MODIFIED:20230509T212725Z
UID:6395-1696032000-1696032000@meerut.darshanacademy.org
SUMMARY:PTM (ALL CLASSES)
DESCRIPTION:
URL:https://meerut.darshanacademy.org/event/ptm-all-classes-2/
CATEGORIES:PTM
END:VEVENT
BEGIN:VEVENT
DTSTART;TZID=America/Los_Angeles:20230929T000000
DTEND;TZID=America/Los_Angeles:20230929T000000
DTSTAMP:20260421T102754
CREATED:20230509T212725Z
LAST-MODIFIED:20230509T212725Z
UID:6394-1695945600-1695945600@meerut.darshanacademy.org
SUMMARY:SPECIAL ASSEMBLY: GANDHI JAYANTI
DESCRIPTION:
URL:https://meerut.darshanacademy.org/event/special-assembly-gandhi-jayanti/
CATEGORIES:EVENT
END:VEVENT
BEGIN:VEVENT
DTSTART;TZID=America/Los_Angeles:20230928T000000
DTEND;TZID=America/Los_Angeles:20230928T000000
DTSTAMP:20260421T102754
CREATED:20230509T212725Z
LAST-MODIFIED:20230509T212725Z
UID:6393-1695859200-1695859200@meerut.darshanacademy.org
SUMMARY:EID-E-MILAD
DESCRIPTION:
URL:https://meerut.darshanacademy.org/event/eid-e-milad/
CATEGORIES:HOLIDAY
END:VEVENT
BEGIN:VEVENT
DTSTART;TZID=America/Los_Angeles:20230927T000000
DTEND;TZID=America/Los_Angeles:20230927T000000
DTSTAMP:20260421T102754
CREATED:20230509T212725Z
LAST-MODIFIED:20230509T212725Z
UID:6392-1695772800-1695772800@meerut.darshanacademy.org
SUMMARY:AWARENESS PROGRAMMES: GOOD & BAD TOUCH (III - V) / PERSONAL WELL-BEING (VI - VII)/ BULLYING (IX - XII)
DESCRIPTION:
URL:https://meerut.darshanacademy.org/event/awareness-programmes-good-bad-touch-iii-v-personal-well-being-vi-vii-bullying-ix-xii/
CATEGORIES:EVENT
END:VEVENT
END:VCALENDAR