BEGIN:VCALENDAR
VERSION:2.0
PRODID:-//Darshan Academy Meerut - ECPv6.0.12//NONSGML v1.0//EN
CALSCALE:GREGORIAN
METHOD:PUBLISH
X-WR-CALNAME:Darshan Academy Meerut
X-ORIGINAL-URL:https://meerut.darshanacademy.org
X-WR-CALDESC:Events for Darshan Academy Meerut
REFRESH-INTERVAL;VALUE=DURATION:PT1H
X-Robots-Tag:noindex
X-PUBLISHED-TTL:PT1H
BEGIN:VTIMEZONE
TZID:America/Los_Angeles
BEGIN:DAYLIGHT
TZOFFSETFROM:-0800
TZOFFSETTO:-0700
TZNAME:PDT
DTSTART:20230312T100000
END:DAYLIGHT
BEGIN:STANDARD
TZOFFSETFROM:-0700
TZOFFSETTO:-0800
TZNAME:PST
DTSTART:20231105T090000
END:STANDARD
END:VTIMEZONE
BEGIN:VEVENT
DTSTART;TZID=America/Los_Angeles:20230908T000000
DTEND;TZID=America/Los_Angeles:20230908T000000
DTSTAMP:20260421T084519
CREATED:20230509T212650Z
LAST-MODIFIED:20230509T212650Z
UID:6385-1694131200-1694131200@meerut.darshanacademy.org
SUMMARY:SPECIAL ASSEMBLY: INTERNATIONAL LITERACY DAY / HINDI DIWAS CELEBRATION
DESCRIPTION:
URL:https://meerut.darshanacademy.org/event/special-assembly-international-literacy-day-hindi-diwas-celebration/
CATEGORIES:EVENT
END:VEVENT
BEGIN:VEVENT
DTSTART;TZID=America/Los_Angeles:20230907T000000
DTEND;TZID=America/Los_Angeles:20230907T000000
DTSTAMP:20260421T084519
CREATED:20230509T212650Z
LAST-MODIFIED:20230509T212650Z
UID:6384-1694044800-1694044800@meerut.darshanacademy.org
SUMMARY:JANAMASHTMI
DESCRIPTION:
URL:https://meerut.darshanacademy.org/event/janamashtmi/
CATEGORIES:HOLIDAY
END:VEVENT
BEGIN:VEVENT
DTSTART;TZID=America/Los_Angeles:20230906T000000
DTEND;TZID=America/Los_Angeles:20230906T000000
DTSTAMP:20260421T084519
CREATED:20230509T212650Z
LAST-MODIFIED:20230509T212650Z
UID:6383-1693958400-1693958400@meerut.darshanacademy.org
SUMMARY:JANAMASHTMI CELEBRATION (NUR - V)
DESCRIPTION:
URL:https://meerut.darshanacademy.org/event/janamashtmi-celebration-nur-v/
CATEGORIES:EVENT
END:VEVENT
BEGIN:VEVENT
DTSTART;TZID=America/Los_Angeles:20230905T000000
DTEND;TZID=America/Los_Angeles:20230905T000000
DTSTAMP:20260421T084519
CREATED:20230509T212649Z
LAST-MODIFIED:20230509T212649Z
UID:6382-1693872000-1693872000@meerut.darshanacademy.org
SUMMARY:TEACHERS' DAY CELEBRATION
DESCRIPTION:
URL:https://meerut.darshanacademy.org/event/teachers-day-celebration/
CATEGORIES:EVENT
END:VEVENT
BEGIN:VEVENT
DTSTART;TZID=America/Los_Angeles:20230831T000000
DTEND;TZID=America/Los_Angeles:20230831T000000
DTSTAMP:20260421T084519
CREATED:20230509T212649Z
LAST-MODIFIED:20230509T212649Z
UID:6381-1693440000-1693440000@meerut.darshanacademy.org
SUMMARY:RAKSHABANDHAN
DESCRIPTION:
URL:https://meerut.darshanacademy.org/event/rakshabandhan/
CATEGORIES:HOLIDAY
END:VEVENT
BEGIN:VEVENT
DTSTART;TZID=America/Los_Angeles:20230830T000000
DTEND;TZID=America/Los_Angeles:20230830T000000
DTSTAMP:20260421T084519
CREATED:20230509T212640Z
LAST-MODIFIED:20230509T212640Z
UID:6380-1693353600-1693353600@meerut.darshanacademy.org
SUMMARY:RAKSHABANDHAN CELEBRATION
DESCRIPTION:
URL:https://meerut.darshanacademy.org/event/rakshabandhan-celebration/
CATEGORIES:EVENT
END:VEVENT
BEGIN:VEVENT
DTSTART;TZID=America/Los_Angeles:20230829T000000
DTEND;TZID=America/Los_Angeles:20230829T000000
DTSTAMP:20260421T084519
CREATED:20230509T212640Z
LAST-MODIFIED:20230509T212640Z
UID:6379-1693267200-1693267200@meerut.darshanacademy.org
SUMMARY:NATIONAL SPORTS DAY CELEBRATION
DESCRIPTION:
URL:https://meerut.darshanacademy.org/event/national-sports-day-celebration/
CATEGORIES:EVENT
END:VEVENT
BEGIN:VEVENT
DTSTART;TZID=America/Los_Angeles:20230826T000000
DTEND;TZID=America/Los_Angeles:20230826T000000
DTSTAMP:20260421T084519
CREATED:20230509T212640Z
LAST-MODIFIED:20230509T212640Z
UID:6378-1693008000-1693008000@meerut.darshanacademy.org
SUMMARY:FOURTH SATURDAY
DESCRIPTION:
URL:https://meerut.darshanacademy.org/event/fourth-saturday/
CATEGORIES:HOLIDAY
END:VEVENT
BEGIN:VEVENT
DTSTART;TZID=America/Los_Angeles:20230824T000000
DTEND;TZID=America/Los_Angeles:20230825T000000
DTSTAMP:20260421T084519
CREATED:20230509T212640Z
LAST-MODIFIED:20230509T212640Z
UID:6377-1692835200-1692921600@meerut.darshanacademy.org
SUMMARY:NATIONAL WORKSHOP FOR PRE-PRIMARY TEACHERS
DESCRIPTION:
URL:https://meerut.darshanacademy.org/event/national-workshop-for-pre-primary-teachers/
CATEGORIES:PROFESSIONAL DEVELOPMENT PROGRAMME
END:VEVENT
BEGIN:VEVENT
DTSTART;TZID=America/Los_Angeles:20230819T000000
DTEND;TZID=America/Los_Angeles:20230819T000000
DTSTAMP:20260421T084519
CREATED:20230509T212639Z
LAST-MODIFIED:20230509T212639Z
UID:6376-1692403200-1692403200@meerut.darshanacademy.org
SUMMARY:SCHOOL PICNIC (I - XII)
DESCRIPTION:
URL:https://meerut.darshanacademy.org/event/school-picnic-i-xii/
CATEGORIES:EVENT
END:VEVENT
BEGIN:VEVENT
DTSTART;TZID=America/Los_Angeles:20230816T000000
DTEND;TZID=America/Los_Angeles:20230816T000000
DTSTAMP:20260421T084519
CREATED:20230509T212627Z
LAST-MODIFIED:20230509T212627Z
UID:6375-1692144000-1692144000@meerut.darshanacademy.org
SUMMARY:MOCK DRILL (FIRE)
DESCRIPTION:
URL:https://meerut.darshanacademy.org/event/mock-drill-fire/
CATEGORIES:EVENT
END:VEVENT
BEGIN:VEVENT
DTSTART;TZID=America/Los_Angeles:20230815T000000
DTEND;TZID=America/Los_Angeles:20230815T000000
DTSTAMP:20260421T084519
CREATED:20230509T212627Z
LAST-MODIFIED:20230509T212627Z
UID:6374-1692057600-1692057600@meerut.darshanacademy.org
SUMMARY:INDEPENDENCE DAY
DESCRIPTION:
URL:https://meerut.darshanacademy.org/event/independence-day/
CATEGORIES:HOLIDAY
END:VEVENT
BEGIN:VEVENT
DTSTART;TZID=America/Los_Angeles:20230814T000000
DTEND;TZID=America/Los_Angeles:20230814T000000
DTSTAMP:20260421T084519
CREATED:20230509T212627Z
LAST-MODIFIED:20230509T212627Z
UID:6373-1691971200-1691971200@meerut.darshanacademy.org
SUMMARY:INDEPENDENCE DAY CELEBRATION
DESCRIPTION:
URL:https://meerut.darshanacademy.org/event/independence-day-celebration/
CATEGORIES:EVENT
END:VEVENT
BEGIN:VEVENT
DTSTART;TZID=America/Los_Angeles:20230812T000000
DTEND;TZID=America/Los_Angeles:20230812T000000
DTSTAMP:20260421T084519
CREATED:20230509T212626Z
LAST-MODIFIED:20230509T212626Z
UID:6372-1691798400-1691798400@meerut.darshanacademy.org
SUMMARY:INTER-HOUSE RELAY RACE (I - V) / KHO-KHO ( VI - VIII)
DESCRIPTION:
URL:https://meerut.darshanacademy.org/event/inter-house-relay-race-i-v-kho-kho-vi-viii/
CATEGORIES:EVENT
END:VEVENT
BEGIN:VEVENT
DTSTART;TZID=America/Los_Angeles:20230811T000000
DTEND;TZID=America/Los_Angeles:20230812T000000
DTSTAMP:20260421T084519
CREATED:20230509T212626Z
LAST-MODIFIED:20230509T212626Z
UID:6371-1691712000-1691798400@meerut.darshanacademy.org
SUMMARY:NATIONAL WORKSHOP FOR TEACHERS TEACHING IX -XII
DESCRIPTION:
URL:https://meerut.darshanacademy.org/event/national-workshop-for-teachers-teaching-ix-xii/
CATEGORIES:PROFESSIONAL DEVELOPMENT PROGRAMME
END:VEVENT
BEGIN:VEVENT
DTSTART;TZID=America/Los_Angeles:20230811T000000
DTEND;TZID=America/Los_Angeles:20230811T000000
DTSTAMP:20260421T084519
CREATED:20230509T212613Z
LAST-MODIFIED:20230509T212613Z
UID:6370-1691712000-1691712000@meerut.darshanacademy.org
SUMMARY:GREEN DAY CELEBRATION (PRE-PRIMARY)
DESCRIPTION:
URL:https://meerut.darshanacademy.org/event/green-day-celebration-pre-primary/
CATEGORIES:EVENT
END:VEVENT
BEGIN:VEVENT
DTSTART;TZID=America/Los_Angeles:20230805T000000
DTEND;TZID=America/Los_Angeles:20230805T000000
DTSTAMP:20260421T084519
CREATED:20230509T212613Z
LAST-MODIFIED:20230509T212613Z
UID:6369-1691193600-1691193600@meerut.darshanacademy.org
SUMMARY:INTERCLASS ACTIVITIES: CLAY MODELING (I - II) / DECLAMATION (III - V ) / SPECIAL ASSEMBLY: HIROSHIMA & NAGASAKI DAY CELEBRATION (VI - XII)
DESCRIPTION:
URL:https://meerut.darshanacademy.org/event/interclass-activities-clay-modeling-i-ii-declamation-iii-v-special-assembly-hiroshima-nagasaki-day-celebration-vi-xii/
CATEGORIES:EVENT
END:VEVENT
BEGIN:VEVENT
DTSTART;TZID=America/Los_Angeles:20230805T000000
DTEND;TZID=America/Los_Angeles:20230805T000000
DTSTAMP:20260421T084519
CREATED:20230509T212613Z
LAST-MODIFIED:20230509T212613Z
UID:6368-1691193600-1691193600@meerut.darshanacademy.org
SUMMARY:ZONAL WORKSHOP FOR TEACHERS TEACHING MATHEMATICS IN CLASSES (III-V)
DESCRIPTION:
URL:https://meerut.darshanacademy.org/event/zonal-workshop-for-teachers-teaching-mathematics-in-classes-iii-v/
CATEGORIES:PROFESSIONAL DEVELOPMENT PROGRAMME
END:VEVENT
BEGIN:VEVENT
DTSTART;TZID=America/Los_Angeles:20230729T000000
DTEND;TZID=America/Los_Angeles:20230729T000000
DTSTAMP:20260421T084519
CREATED:20230509T212613Z
LAST-MODIFIED:20230509T212613Z
UID:6367-1690588800-1690588800@meerut.darshanacademy.org
SUMMARY:MUHHARAM
DESCRIPTION:
URL:https://meerut.darshanacademy.org/event/muhharam/
CATEGORIES:HOLIDAY
END:VEVENT
BEGIN:VEVENT
DTSTART;TZID=America/Los_Angeles:20230728T000000
DTEND;TZID=America/Los_Angeles:20230728T000000
DTSTAMP:20260421T084519
CREATED:20230509T212613Z
LAST-MODIFIED:20230509T212613Z
UID:6366-1690502400-1690502400@meerut.darshanacademy.org
SUMMARY:ZONAL WORKSHOP ON FOUNDATIONAL LITERACY AND NUMERACY FOR TEACHERS TEACHING CLASSES (I-II)
DESCRIPTION:
URL:https://meerut.darshanacademy.org/event/zonal-workshop-on-foundational-literacy-and-numeracy-for-teachers-teaching-classes-i-ii/
CATEGORIES:PROFESSIONAL DEVELOPMENT PROGRAMME
END:VEVENT
BEGIN:VEVENT
DTSTART;TZID=America/Los_Angeles:20230726T000000
DTEND;TZID=America/Los_Angeles:20230726T000000
DTSTAMP:20260421T084519
CREATED:20230509T212554Z
LAST-MODIFIED:20230509T212554Z
UID:6365-1690329600-1690329600@meerut.darshanacademy.org
SUMMARY:MOCK DRILL (EARTHQUAKE)
DESCRIPTION:
URL:https://meerut.darshanacademy.org/event/mock-drill-earthquake/
CATEGORIES:EVENT
END:VEVENT
BEGIN:VEVENT
DTSTART;TZID=America/Los_Angeles:20230722T000000
DTEND;TZID=America/Los_Angeles:20230722T000000
DTSTAMP:20260421T084519
CREATED:20230509T212554Z
LAST-MODIFIED:20230509T212554Z
UID:6364-1689984000-1689984000@meerut.darshanacademy.org
SUMMARY:PTM (ALL CLASSES)
DESCRIPTION:
URL:https://meerut.darshanacademy.org/event/ptm-all-classes/
CATEGORIES:PTM
END:VEVENT
BEGIN:VEVENT
DTSTART;TZID=America/Los_Angeles:20230719T000000
DTEND;TZID=America/Los_Angeles:20230719T000000
DTSTAMP:20260421T084519
CREATED:20230509T212554Z
LAST-MODIFIED:20230509T212554Z
UID:6363-1689724800-1689724800@meerut.darshanacademy.org
SUMMARY:INTER-HOUSE ROLE PLAYS (I  - V) / ADVERTISEMENT ENACTMENTS (VI - VIII) / RADIO SHOWS (IX - XII)
DESCRIPTION:
URL:https://meerut.darshanacademy.org/event/inter-house-role-plays-i-v-advertisement-enactments-vi-viii-radio-shows-ix-xii/
CATEGORIES:EVENT
END:VEVENT
BEGIN:VEVENT
DTSTART;TZID=America/Los_Angeles:20230708T000000
DTEND;TZID=America/Los_Angeles:20230715T000000
DTSTAMP:20260421T084519
CREATED:20230509T212554Z
LAST-MODIFIED:20230509T212554Z
UID:6362-1688774400-1689379200@meerut.darshanacademy.org
SUMMARY:ASSESSMENT - I (I - V) / PERIODIC TEST - I (VI-XII)
DESCRIPTION:
URL:https://meerut.darshanacademy.org/event/assessment-i-i-v-periodic-test-i-vi-xii/
CATEGORIES:EXAMINATION
END:VEVENT
BEGIN:VEVENT
DTSTART;TZID=America/Los_Angeles:20230708T000000
DTEND;TZID=America/Los_Angeles:20230708T000000
DTSTAMP:20260421T084519
CREATED:20230509T212554Z
LAST-MODIFIED:20230509T212554Z
UID:6361-1688774400-1688774400@meerut.darshanacademy.org
SUMMARY:BLUE DAY-CUM-POOL PARTY (PRE-PRIMARY)
DESCRIPTION:
URL:https://meerut.darshanacademy.org/event/blue-day-cum-pool-party-pre-primary/
CATEGORIES:EVENT
END:VEVENT
BEGIN:VEVENT
DTSTART;TZID=America/Los_Angeles:20230629T000000
DTEND;TZID=America/Los_Angeles:20230629T000000
DTSTAMP:20260421T084519
CREATED:20230509T212547Z
LAST-MODIFIED:20230509T212547Z
UID:6360-1687996800-1687996800@meerut.darshanacademy.org
SUMMARY:ID-UL-ZUHA
DESCRIPTION:
URL:https://meerut.darshanacademy.org/event/id-ul-zuha/
CATEGORIES:HOLIDAY
END:VEVENT
BEGIN:VEVENT
DTSTART;TZID=America/Los_Angeles:20230627T000000
DTEND;TZID=America/Los_Angeles:20230627T000000
DTSTAMP:20260421T084519
CREATED:20230509T212547Z
LAST-MODIFIED:20230509T212547Z
UID:6359-1687824000-1687824000@meerut.darshanacademy.org
SUMMARY:INTERNAL WORKSHOP ON METHODOLOGY OF TEACHING DIFFERENT SUBJECTS
DESCRIPTION:
URL:https://meerut.darshanacademy.org/event/internal-workshop-on-methodology-of-teaching-different-subjects-2/
CATEGORIES:PROFESSIONAL DEVELOPMENT PROGRAMME
END:VEVENT
BEGIN:VEVENT
DTSTART;TZID=America/Los_Angeles:20230626T000000
DTEND;TZID=America/Los_Angeles:20230626T000000
DTSTAMP:20260421T084519
CREATED:20230509T212547Z
LAST-MODIFIED:20230509T212547Z
UID:6358-1687737600-1687737600@meerut.darshanacademy.org
SUMMARY:ONLINE SCTTC COURSE FOR ALL TEACHERS
DESCRIPTION:
URL:https://meerut.darshanacademy.org/event/online-scttc-course-for-all-teachers/
CATEGORIES:PROFESSIONAL DEVELOPMENT PROGRAMME
END:VEVENT
BEGIN:VEVENT
DTSTART;TZID=America/Los_Angeles:20230622T000000
DTEND;TZID=America/Los_Angeles:20230624T000000
DTSTAMP:20260421T084519
CREATED:20230509T212547Z
LAST-MODIFIED:20230509T212547Z
UID:6357-1687392000-1687564800@meerut.darshanacademy.org
SUMMARY:NATIONAL WORKSHOP FOR PRINCIPALS / HEADS / SENIOR COORDINATORS
DESCRIPTION:
URL:https://meerut.darshanacademy.org/event/national-workshop-for-principals-heads-senior-coordinators/
CATEGORIES:PROFESSIONAL DEVELOPMENT PROGRAMME
END:VEVENT
BEGIN:VEVENT
DTSTART;TZID=America/Los_Angeles:20230621T000000
DTEND;TZID=America/Los_Angeles:20230621T000000
DTSTAMP:20260421T084519
CREATED:20230509T212547Z
LAST-MODIFIED:20230509T212547Z
UID:6356-1687305600-1687305600@meerut.darshanacademy.org
SUMMARY:INTERNATIONAL YOGA DAY
DESCRIPTION:
URL:https://meerut.darshanacademy.org/event/international-yoga-day/
CATEGORIES:EVENT
END:VEVENT
END:VCALENDAR